BEGIN:VCALENDAR
VERSION:2.0
PRODID:-// - ECPv6.10.3//NONSGML v1.0//EN
CALSCALE:GREGORIAN
METHOD:PUBLISH
X-ORIGINAL-URL:https://www.ronddelinge.nl
X-WR-CALDESC:Evenementen voor 
REFRESH-INTERVAL;VALUE=DURATION:PT1H
X-Robots-Tag:noindex
X-PUBLISHED-TTL:PT1H
BEGIN:VTIMEZONE
TZID:Europe/Amsterdam
BEGIN:DAYLIGHT
TZOFFSETFROM:+0100
TZOFFSETTO:+0200
TZNAME:CEST
DTSTART:20240331T010000
END:DAYLIGHT
BEGIN:STANDARD
TZOFFSETFROM:+0200
TZOFFSETTO:+0100
TZNAME:CET
DTSTART:20241027T010000
END:STANDARD
BEGIN:DAYLIGHT
TZOFFSETFROM:+0100
TZOFFSETTO:+0200
TZNAME:CEST
DTSTART:20250330T010000
END:DAYLIGHT
BEGIN:STANDARD
TZOFFSETFROM:+0200
TZOFFSETTO:+0100
TZNAME:CET
DTSTART:20251026T010000
END:STANDARD
END:VTIMEZONE
BEGIN:VEVENT
DTSTART;TZID=Europe/Amsterdam:20250222T100000
DTEND;TZID=Europe/Amsterdam:20250222T180000
DTSTAMP:20260421T182436
CREATED:20241121T142410Z
LAST-MODIFIED:20241121T142410Z
UID:58266-1740218400-1740247200@www.ronddelinge.nl
SUMMARY:Klaverjas Marathon
DESCRIPTION:
URL:https://www.ronddelinge.nl/agenda/klaverjas-marathon/
LOCATION:Buurthuis de Aanlegsteiger\, Vissersdijk 30\, Gorinchem\, 4201 ZD\, Nederland
ATTACH;FMTTYPE=image/jpeg:https://www.ronddelinge.nl/wp-content/uploads/2024/11/IMG-20241031-WA0000.jpg
GEO:51.830544746667;4.9799722120975
X-APPLE-STRUCTURED-LOCATION;VALUE=URI;X-ADDRESS=Buurthuis de Aanlegsteiger Vissersdijk 30 Gorinchem 4201 ZD Nederland;X-APPLE-RADIUS=500;X-TITLE=Vissersdijk 30:geo:4.9799722120975,51.830544746667
END:VEVENT
BEGIN:VEVENT
DTSTART;TZID=Europe/Amsterdam:20250126T133000
DTEND;TZID=Europe/Amsterdam:20250126T163000
DTSTAMP:20260421T182436
CREATED:20241230T063420Z
LAST-MODIFIED:20241230T063420Z
UID:58653-1737898200-1737909000@www.ronddelinge.nl
SUMMARY:Bingo
DESCRIPTION:
URL:https://www.ronddelinge.nl/agenda/bingo-2/
LOCATION:Buurthuis de Aanlegsteiger\, Vissersdijk 30\, Gorinchem\, 4201 ZD\, Nederland
GEO:51.830544746667;4.9799722120975
X-APPLE-STRUCTURED-LOCATION;VALUE=URI;X-ADDRESS=Buurthuis de Aanlegsteiger Vissersdijk 30 Gorinchem 4201 ZD Nederland;X-APPLE-RADIUS=500;X-TITLE=Vissersdijk 30:geo:4.9799722120975,51.830544746667
END:VEVENT
BEGIN:VEVENT
DTSTART;TZID=Europe/Amsterdam:20250118T140000
DTEND;TZID=Europe/Amsterdam:20250118T160000
DTSTAMP:20260421T182436
CREATED:20241218T151030Z
LAST-MODIFIED:20241218T151030Z
UID:58595-1737208800-1737216000@www.ronddelinge.nl
SUMMARY:Limonade Quiz
DESCRIPTION:
URL:https://www.ronddelinge.nl/agenda/limonade-quiz/
LOCATION:Buurthuis de Aanlegsteiger\, Vissersdijk 30\, Gorinchem\, 4201 ZD\, Nederland
GEO:51.830544746667;4.9799722120975
X-APPLE-STRUCTURED-LOCATION;VALUE=URI;X-ADDRESS=Buurthuis de Aanlegsteiger Vissersdijk 30 Gorinchem 4201 ZD Nederland;X-APPLE-RADIUS=500;X-TITLE=Vissersdijk 30:geo:4.9799722120975,51.830544746667
END:VEVENT
BEGIN:VEVENT
DTSTART;TZID=Europe/Amsterdam:20250104T210000
DTEND;TZID=Europe/Amsterdam:20250104T234500
DTSTAMP:20260421T182436
CREATED:20241204T145509Z
LAST-MODIFIED:20241204T145509Z
UID:58442-1736024400-1736034300@www.ronddelinge.nl
SUMMARY:Nieuwjaarsparty
DESCRIPTION:
URL:https://www.ronddelinge.nl/agenda/nieuwjaarsparty/
LOCATION:Buurthuis de Aanlegsteiger\, Vissersdijk 30\, Gorinchem\, 4201 ZD\, Nederland
GEO:51.830544746667;4.9799722120975
X-APPLE-STRUCTURED-LOCATION;VALUE=URI;X-ADDRESS=Buurthuis de Aanlegsteiger Vissersdijk 30 Gorinchem 4201 ZD Nederland;X-APPLE-RADIUS=500;X-TITLE=Vissersdijk 30:geo:4.9799722120975,51.830544746667
END:VEVENT
BEGIN:VEVENT
DTSTART;TZID=Europe/Amsterdam:20241231T210000
DTEND;TZID=Europe/Amsterdam:20250101T020000
DTSTAMP:20260421T182436
CREATED:20241127T100730Z
LAST-MODIFIED:20241127T100730Z
UID:58345-1735678800-1735696800@www.ronddelinge.nl
SUMMARY:Buurtcafé
DESCRIPTION:
URL:https://www.ronddelinge.nl/agenda/buurtcafe/
LOCATION:Buurthuis de Aanlegsteiger\, Vissersdijk 30\, Gorinchem\, 4201 ZD\, Nederland
GEO:51.830544746667;4.9799722120975
X-APPLE-STRUCTURED-LOCATION;VALUE=URI;X-ADDRESS=Buurthuis de Aanlegsteiger Vissersdijk 30 Gorinchem 4201 ZD Nederland;X-APPLE-RADIUS=500;X-TITLE=Vissersdijk 30:geo:4.9799722120975,51.830544746667
END:VEVENT
BEGIN:VEVENT
DTSTART;TZID=Europe/Amsterdam:20241222T133000
DTEND;TZID=Europe/Amsterdam:20241222T163000
DTSTAMP:20260421T182436
CREATED:20241120T183534Z
LAST-MODIFIED:20241120T183534Z
UID:58250-1734874200-1734885000@www.ronddelinge.nl
SUMMARY:Kerst Bingo
DESCRIPTION:
URL:https://www.ronddelinge.nl/agenda/kerst-bingo/
LOCATION:Buurthuis de Aanlegsteiger\, Vissersdijk 30\, Gorinchem\, 4201 ZD\, Nederland
ATTACH;FMTTYPE=image/jpeg:https://www.ronddelinge.nl/wp-content/uploads/2024/11/IMG-20241118-WA0004.jpg
GEO:51.830544746667;4.9799722120975
X-APPLE-STRUCTURED-LOCATION;VALUE=URI;X-ADDRESS=Buurthuis de Aanlegsteiger Vissersdijk 30 Gorinchem 4201 ZD Nederland;X-APPLE-RADIUS=500;X-TITLE=Vissersdijk 30:geo:4.9799722120975,51.830544746667
END:VEVENT
BEGIN:VEVENT
DTSTART;TZID=Europe/Amsterdam:20241219T140000
DTEND;TZID=Europe/Amsterdam:20241219T160000
DTSTAMP:20260421T182436
CREATED:20241230T063623Z
LAST-MODIFIED:20241230T063623Z
UID:58656-1734616800-1734624000@www.ronddelinge.nl
SUMMARY:Ouderen in 't zonnetje
DESCRIPTION:
URL:https://www.ronddelinge.nl/agenda/ouderen-in-t-zonnetje/
LOCATION:Buurthuis de Aanlegsteiger\, Vissersdijk 30\, Gorinchem\, 4201 ZD\, Nederland
GEO:51.830544746667;4.9799722120975
X-APPLE-STRUCTURED-LOCATION;VALUE=URI;X-ADDRESS=Buurthuis de Aanlegsteiger Vissersdijk 30 Gorinchem 4201 ZD Nederland;X-APPLE-RADIUS=500;X-TITLE=Vissersdijk 30:geo:4.9799722120975,51.830544746667
END:VEVENT
BEGIN:VEVENT
DTSTART;TZID=Europe/Amsterdam:20241215T140000
DTEND;TZID=Europe/Amsterdam:20241215T170000
DTSTAMP:20260421T182436
CREATED:20241121T142525Z
LAST-MODIFIED:20241121T142525Z
UID:58269-1734271200-1734282000@www.ronddelinge.nl
SUMMARY:Klaverjassen
DESCRIPTION:
URL:https://www.ronddelinge.nl/agenda/klaverjassen-2/
LOCATION:Buurthuis de Aanlegsteiger\, Vissersdijk 30\, Gorinchem\, 4201 ZD\, Nederland
ATTACH;FMTTYPE=image/jpeg:https://www.ronddelinge.nl/wp-content/uploads/2024/11/IMG-20241030-WA0000.jpg
GEO:51.830544746667;4.9799722120975
X-APPLE-STRUCTURED-LOCATION;VALUE=URI;X-ADDRESS=Buurthuis de Aanlegsteiger Vissersdijk 30 Gorinchem 4201 ZD Nederland;X-APPLE-RADIUS=500;X-TITLE=Vissersdijk 30:geo:4.9799722120975,51.830544746667
END:VEVENT
BEGIN:VEVENT
DTSTART;TZID=Europe/Amsterdam:20241215T133000
DTEND;TZID=Europe/Amsterdam:20241215T190000
DTSTAMP:20260421T182436
CREATED:20240909T135246Z
LAST-MODIFIED:20240909T135246Z
UID:57507-1734269400-1734289200@www.ronddelinge.nl
SUMMARY:Klaverjassen
DESCRIPTION:
URL:https://www.ronddelinge.nl/agenda/klaverjassen/2024-12-15/
LOCATION:Buurthuis de Aanlegsteiger\, Vissersdijk 30\, Gorinchem\, 4201 ZD\, Nederland
ATTACH;FMTTYPE=image/jpeg:https://www.ronddelinge.nl/wp-content/uploads/2024/09/klaverjassen.jpg
GEO:51.830544746667;4.9799722120975
X-APPLE-STRUCTURED-LOCATION;VALUE=URI;X-ADDRESS=Buurthuis de Aanlegsteiger Vissersdijk 30 Gorinchem 4201 ZD Nederland;X-APPLE-RADIUS=500;X-TITLE=Vissersdijk 30:geo:4.9799722120975,51.830544746667
END:VEVENT
BEGIN:VEVENT
DTSTART;TZID=Europe/Amsterdam:20241211T180000
DTEND;TZID=Europe/Amsterdam:20241211T193000
DTSTAMP:20260421T182436
CREATED:20241121T142235Z
LAST-MODIFIED:20241121T142235Z
UID:58263-1733940000-1733945400@www.ronddelinge.nl
SUMMARY:De Aanschuifsteiger
DESCRIPTION:
URL:https://www.ronddelinge.nl/agenda/de-aanschuifsteiger/
LOCATION:Buurthuis de Aanlegsteiger\, Vissersdijk 30\, Gorinchem\, 4201 ZD\, Nederland
ATTACH;FMTTYPE=image/jpeg:https://www.ronddelinge.nl/wp-content/uploads/2024/11/IMG-20241118-WA0001.jpg
GEO:51.830544746667;4.9799722120975
X-APPLE-STRUCTURED-LOCATION;VALUE=URI;X-ADDRESS=Buurthuis de Aanlegsteiger Vissersdijk 30 Gorinchem 4201 ZD Nederland;X-APPLE-RADIUS=500;X-TITLE=Vissersdijk 30:geo:4.9799722120975,51.830544746667
END:VEVENT
BEGIN:VEVENT
DTSTART;TZID=Europe/Amsterdam:20241130T150000
DTEND;TZID=Europe/Amsterdam:20241130T210000
DTSTAMP:20260421T182436
CREATED:20241110T121221Z
LAST-MODIFIED:20241110T121221Z
UID:58124-1732978800-1733000400@www.ronddelinge.nl
SUMMARY:Dock Live
DESCRIPTION:
URL:https://www.ronddelinge.nl/agenda/dock-live/
LOCATION:Buurthuis de Aanlegsteiger\, Vissersdijk 30\, Gorinchem\, 4201 ZD\, Nederland
GEO:51.830544746667;4.9799722120975
X-APPLE-STRUCTURED-LOCATION;VALUE=URI;X-ADDRESS=Buurthuis de Aanlegsteiger Vissersdijk 30 Gorinchem 4201 ZD Nederland;X-APPLE-RADIUS=500;X-TITLE=Vissersdijk 30:geo:4.9799722120975,51.830544746667
END:VEVENT
BEGIN:VEVENT
DTSTART;TZID=Europe/Amsterdam:20241116T140000
DTEND;TZID=Europe/Amsterdam:20241116T160000
DTSTAMP:20260421T182436
CREATED:20241111T160939Z
LAST-MODIFIED:20241111T160939Z
UID:58147-1731765600-1731772800@www.ronddelinge.nl
SUMMARY:Kinderbingo
DESCRIPTION:Kinderbingo bij Buurtvereniging De Watertoren Kids Gorinchem.\nKinderen altijd prijs.\nBingo boekjes kunnen worden aangeschaft op locatie.\nKosten heel boekje €7\,oo leden €8\,00 niet leden.\nHalf boekje €3\,50 leden €4\,00 niet leden.\nAanmelden (Scan) verplicht via QR code zie poster.
URL:https://www.ronddelinge.nl/agenda/kinderbingo/
LOCATION:Buurthuis de Aanlegsteiger\, Vissersdijk 30\, Gorinchem\, 4201 ZD\, Nederland
ORGANIZER;CN="Buurtvereniging De Watertoren e/o":MAILTO:info@buurtverenigingdewatertoren.nl
GEO:51.830544746667;4.9799722120975
X-APPLE-STRUCTURED-LOCATION;VALUE=URI;X-ADDRESS=Buurthuis de Aanlegsteiger Vissersdijk 30 Gorinchem 4201 ZD Nederland;X-APPLE-RADIUS=500;X-TITLE=Vissersdijk 30:geo:4.9799722120975,51.830544746667
END:VEVENT
BEGIN:VEVENT
DTSTART;TZID=Europe/Amsterdam:20241012T210000
DTEND;TZID=Europe/Amsterdam:20241012T234500
DTSTAMP:20260421T182436
CREATED:20240909T134906Z
LAST-MODIFIED:20240909T134906Z
UID:57501-1728766800-1728776700@www.ronddelinge.nl
SUMMARY:Oktoberfest
DESCRIPTION:
URL:https://www.ronddelinge.nl/agenda/oktoberfest/
LOCATION:Buurthuis de Aanlegsteiger\, Vissersdijk 30\, Gorinchem\, 4201 ZD\, Nederland
ATTACH;FMTTYPE=image/jpeg:https://www.ronddelinge.nl/wp-content/uploads/2024/09/IMG-20240902-WA0000.jpg
GEO:51.830544746667;4.9799722120975
X-APPLE-STRUCTURED-LOCATION;VALUE=URI;X-ADDRESS=Buurthuis de Aanlegsteiger Vissersdijk 30 Gorinchem 4201 ZD Nederland;X-APPLE-RADIUS=500;X-TITLE=Vissersdijk 30:geo:4.9799722120975,51.830544746667
END:VEVENT
BEGIN:VEVENT
DTSTART;TZID=Europe/Amsterdam:20240929T133000
DTEND;TZID=Europe/Amsterdam:20240929T163000
DTSTAMP:20260421T182436
CREATED:20240909T134705Z
LAST-MODIFIED:20240909T134705Z
UID:57498-1727616600-1727627400@www.ronddelinge.nl
SUMMARY:Bingo
DESCRIPTION:
URL:https://www.ronddelinge.nl/agenda/bingo/
LOCATION:Buurthuis de Aanlegsteiger\, Vissersdijk 30\, Gorinchem\, 4201 ZD\, Nederland
ATTACH;FMTTYPE=image/jpeg:https://www.ronddelinge.nl/wp-content/uploads/2024/09/bingo.jpg
GEO:51.830544746667;4.9799722120975
X-APPLE-STRUCTURED-LOCATION;VALUE=URI;X-ADDRESS=Buurthuis de Aanlegsteiger Vissersdijk 30 Gorinchem 4201 ZD Nederland;X-APPLE-RADIUS=500;X-TITLE=Vissersdijk 30:geo:4.9799722120975,51.830544746667
END:VEVENT
BEGIN:VEVENT
DTSTART;TZID=Europe/Amsterdam:20240907T210000
DTEND;TZID=Europe/Amsterdam:20240907T234500
DTSTAMP:20260421T182436
CREATED:20240811T091340Z
LAST-MODIFIED:20240811T091340Z
UID:57065-1725742800-1725752700@www.ronddelinge.nl
SUMMARY:Seizoensopening
DESCRIPTION:
URL:https://www.ronddelinge.nl/agenda/seizoensopening/
LOCATION:Buurthuis de Aanlegsteiger\, Vissersdijk 30\, Gorinchem\, 4201 ZD\, Nederland
ATTACH;FMTTYPE=image/png:https://www.ronddelinge.nl/wp-content/uploads/2024/08/1000013108.png
GEO:51.830544746667;4.9799722120975
X-APPLE-STRUCTURED-LOCATION;VALUE=URI;X-ADDRESS=Buurthuis de Aanlegsteiger Vissersdijk 30 Gorinchem 4201 ZD Nederland;X-APPLE-RADIUS=500;X-TITLE=Vissersdijk 30:geo:4.9799722120975,51.830544746667
END:VEVENT
END:VCALENDAR