BEGIN:VCALENDAR
VERSION:2.0
PRODID:-// - ECPv6.10.3//NONSGML v1.0//EN
CALSCALE:GREGORIAN
METHOD:PUBLISH
X-ORIGINAL-URL:https://www.ronddelinge.nl
X-WR-CALDESC:Evenementen voor 
REFRESH-INTERVAL;VALUE=DURATION:PT1H
X-Robots-Tag:noindex
X-PUBLISHED-TTL:PT1H
BEGIN:VTIMEZONE
TZID:Europe/Amsterdam
BEGIN:DAYLIGHT
TZOFFSETFROM:+0100
TZOFFSETTO:+0200
TZNAME:CEST
DTSTART:20240331T010000
END:DAYLIGHT
BEGIN:STANDARD
TZOFFSETFROM:+0200
TZOFFSETTO:+0100
TZNAME:CET
DTSTART:20241027T010000
END:STANDARD
END:VTIMEZONE
BEGIN:VEVENT
DTSTART;TZID=Europe/Amsterdam:20240822T180000
DTEND;TZID=Europe/Amsterdam:20240822T210000
DTSTAMP:20260422T015224
CREATED:20240630T103646Z
LAST-MODIFIED:20240630T103905Z
UID:56713-1724349600-1724360400@www.ronddelinge.nl
SUMMARY:Zomertafel 2024
DESCRIPTION:In de maanden juli en augustus wordt er 6 weken lang iedere donderdagavond bij Metropole een lange tafel gedekt met plaats voor 28 gasten.Op deze speciale avond gaat onze keuken terug naar de basis. Zij kiezen iedere week een ander ingrediënt en creëren daarmee een overheerlijk en verrassend 3-gangen menu voor € 25\,–\n18 juli > Aardappel25 juli > Noten1 augustus > Brood8 augustus > Pasta15 augustus > Peulvruchten22 augustus > Rijst\nReserveer vandaag nog telefonisch 0183 699 736 of per mail info@metropole-gorinchem.nl\, zodat u straks kunt genieten aan de Metropole ‘Zomer Tafel’. Vol=Vol!
URL:https://www.ronddelinge.nl/agenda/zomertafel-2024-aardappel/2024-08-22/
CATEGORIES:Evenementen & Festivals,Sociaal
ATTACH;FMTTYPE=image/jpeg:https://www.ronddelinge.nl/wp-content/uploads/2024/06/Zomer-tafel.jpg
END:VEVENT
BEGIN:VEVENT
DTSTART;TZID=Europe/Amsterdam:20240815T180000
DTEND;TZID=Europe/Amsterdam:20240815T210000
DTSTAMP:20260422T015224
CREATED:20240630T103646Z
LAST-MODIFIED:20240630T103905Z
UID:56712-1723744800-1723755600@www.ronddelinge.nl
SUMMARY:Zomertafel 2024
DESCRIPTION:In de maanden juli en augustus wordt er 6 weken lang iedere donderdagavond bij Metropole een lange tafel gedekt met plaats voor 28 gasten.Op deze speciale avond gaat onze keuken terug naar de basis. Zij kiezen iedere week een ander ingrediënt en creëren daarmee een overheerlijk en verrassend 3-gangen menu voor € 25\,–\n18 juli > Aardappel25 juli > Noten1 augustus > Brood8 augustus > Pasta15 augustus > Peulvruchten22 augustus > Rijst\nReserveer vandaag nog telefonisch 0183 699 736 of per mail info@metropole-gorinchem.nl\, zodat u straks kunt genieten aan de Metropole ‘Zomer Tafel’. Vol=Vol!
URL:https://www.ronddelinge.nl/agenda/zomertafel-2024-aardappel/2024-08-15/
CATEGORIES:Evenementen & Festivals,Sociaal
ATTACH;FMTTYPE=image/jpeg:https://www.ronddelinge.nl/wp-content/uploads/2024/06/Zomer-tafel.jpg
END:VEVENT
BEGIN:VEVENT
DTSTART;TZID=Europe/Amsterdam:20240808T180000
DTEND;TZID=Europe/Amsterdam:20240808T210000
DTSTAMP:20260422T015224
CREATED:20240630T103646Z
LAST-MODIFIED:20240630T103905Z
UID:56711-1723140000-1723150800@www.ronddelinge.nl
SUMMARY:Zomertafel 2024
DESCRIPTION:In de maanden juli en augustus wordt er 6 weken lang iedere donderdagavond bij Metropole een lange tafel gedekt met plaats voor 28 gasten.Op deze speciale avond gaat onze keuken terug naar de basis. Zij kiezen iedere week een ander ingrediënt en creëren daarmee een overheerlijk en verrassend 3-gangen menu voor € 25\,–\n18 juli > Aardappel25 juli > Noten1 augustus > Brood8 augustus > Pasta15 augustus > Peulvruchten22 augustus > Rijst\nReserveer vandaag nog telefonisch 0183 699 736 of per mail info@metropole-gorinchem.nl\, zodat u straks kunt genieten aan de Metropole ‘Zomer Tafel’. Vol=Vol!
URL:https://www.ronddelinge.nl/agenda/zomertafel-2024-aardappel/2024-08-08/
CATEGORIES:Evenementen & Festivals,Sociaal
ATTACH;FMTTYPE=image/jpeg:https://www.ronddelinge.nl/wp-content/uploads/2024/06/Zomer-tafel.jpg
END:VEVENT
BEGIN:VEVENT
DTSTART;TZID=Europe/Amsterdam:20240801T180000
DTEND;TZID=Europe/Amsterdam:20240801T210000
DTSTAMP:20260422T015224
CREATED:20240630T103646Z
LAST-MODIFIED:20240630T103905Z
UID:56710-1722535200-1722546000@www.ronddelinge.nl
SUMMARY:Zomertafel 2024
DESCRIPTION:In de maanden juli en augustus wordt er 6 weken lang iedere donderdagavond bij Metropole een lange tafel gedekt met plaats voor 28 gasten.Op deze speciale avond gaat onze keuken terug naar de basis. Zij kiezen iedere week een ander ingrediënt en creëren daarmee een overheerlijk en verrassend 3-gangen menu voor € 25\,–\n18 juli > Aardappel25 juli > Noten1 augustus > Brood8 augustus > Pasta15 augustus > Peulvruchten22 augustus > Rijst\nReserveer vandaag nog telefonisch 0183 699 736 of per mail info@metropole-gorinchem.nl\, zodat u straks kunt genieten aan de Metropole ‘Zomer Tafel’. Vol=Vol!
URL:https://www.ronddelinge.nl/agenda/zomertafel-2024-aardappel/2024-08-01/
CATEGORIES:Evenementen & Festivals,Sociaal
ATTACH;FMTTYPE=image/jpeg:https://www.ronddelinge.nl/wp-content/uploads/2024/06/Zomer-tafel.jpg
END:VEVENT
BEGIN:VEVENT
DTSTART;TZID=Europe/Amsterdam:20240725T180000
DTEND;TZID=Europe/Amsterdam:20240725T210000
DTSTAMP:20260422T015224
CREATED:20240630T103646Z
LAST-MODIFIED:20240630T103905Z
UID:56709-1721930400-1721941200@www.ronddelinge.nl
SUMMARY:Zomertafel 2024
DESCRIPTION:In de maanden juli en augustus wordt er 6 weken lang iedere donderdagavond bij Metropole een lange tafel gedekt met plaats voor 28 gasten.Op deze speciale avond gaat onze keuken terug naar de basis. Zij kiezen iedere week een ander ingrediënt en creëren daarmee een overheerlijk en verrassend 3-gangen menu voor € 25\,–\n18 juli > Aardappel25 juli > Noten1 augustus > Brood8 augustus > Pasta15 augustus > Peulvruchten22 augustus > Rijst\nReserveer vandaag nog telefonisch 0183 699 736 of per mail info@metropole-gorinchem.nl\, zodat u straks kunt genieten aan de Metropole ‘Zomer Tafel’. Vol=Vol!
URL:https://www.ronddelinge.nl/agenda/zomertafel-2024-aardappel/2024-07-25/
CATEGORIES:Evenementen & Festivals,Sociaal
ATTACH;FMTTYPE=image/jpeg:https://www.ronddelinge.nl/wp-content/uploads/2024/06/Zomer-tafel.jpg
END:VEVENT
BEGIN:VEVENT
DTSTART;TZID=Europe/Amsterdam:20240718T180000
DTEND;TZID=Europe/Amsterdam:20240718T210000
DTSTAMP:20260422T015224
CREATED:20240630T103646Z
LAST-MODIFIED:20240630T103905Z
UID:56708-1721325600-1721336400@www.ronddelinge.nl
SUMMARY:Zomertafel 2024
DESCRIPTION:In de maanden juli en augustus wordt er 6 weken lang iedere donderdagavond bij Metropole een lange tafel gedekt met plaats voor 28 gasten.Op deze speciale avond gaat onze keuken terug naar de basis. Zij kiezen iedere week een ander ingrediënt en creëren daarmee een overheerlijk en verrassend 3-gangen menu voor € 25\,–\n18 juli > Aardappel25 juli > Noten1 augustus > Brood8 augustus > Pasta15 augustus > Peulvruchten22 augustus > Rijst\nReserveer vandaag nog telefonisch 0183 699 736 of per mail info@metropole-gorinchem.nl\, zodat u straks kunt genieten aan de Metropole ‘Zomer Tafel’. Vol=Vol!
URL:https://www.ronddelinge.nl/agenda/zomertafel-2024-aardappel/2024-07-18/
CATEGORIES:Evenementen & Festivals,Sociaal
ATTACH;FMTTYPE=image/jpeg:https://www.ronddelinge.nl/wp-content/uploads/2024/06/Zomer-tafel.jpg
END:VEVENT
END:VCALENDAR