BEGIN:VCALENDAR
VERSION:2.0
PRODID:-// - ECPv6.10.3//NONSGML v1.0//EN
CALSCALE:GREGORIAN
METHOD:PUBLISH
X-ORIGINAL-URL:https://www.ronddelinge.nl
X-WR-CALDESC:Evenementen voor 
REFRESH-INTERVAL;VALUE=DURATION:PT1H
X-Robots-Tag:noindex
X-PUBLISHED-TTL:PT1H
BEGIN:VTIMEZONE
TZID:Europe/Amsterdam
BEGIN:DAYLIGHT
TZOFFSETFROM:+0100
TZOFFSETTO:+0200
TZNAME:CEST
DTSTART:20240331T010000
END:DAYLIGHT
BEGIN:STANDARD
TZOFFSETFROM:+0200
TZOFFSETTO:+0100
TZNAME:CET
DTSTART:20241027T010000
END:STANDARD
END:VTIMEZONE
BEGIN:VEVENT
DTSTART;TZID=Europe/Amsterdam:20241215T133000
DTEND;TZID=Europe/Amsterdam:20241215T190000
DTSTAMP:20260421T213911
CREATED:20240909T135246Z
LAST-MODIFIED:20240909T135246Z
UID:57507-1734269400-1734289200@www.ronddelinge.nl
SUMMARY:Klaverjassen
DESCRIPTION:
URL:https://www.ronddelinge.nl/agenda/klaverjassen/2024-12-15/
LOCATION:Buurthuis de Aanlegsteiger\, Vissersdijk 30\, Gorinchem\, 4201 ZD\, Nederland
ATTACH;FMTTYPE=image/jpeg:https://www.ronddelinge.nl/wp-content/uploads/2024/09/klaverjassen.jpg
GEO:51.830544746667;4.9799722120975
X-APPLE-STRUCTURED-LOCATION;VALUE=URI;X-ADDRESS=Buurthuis de Aanlegsteiger Vissersdijk 30 Gorinchem 4201 ZD Nederland;X-APPLE-RADIUS=500;X-TITLE=Vissersdijk 30:geo:4.9799722120975,51.830544746667
END:VEVENT
BEGIN:VEVENT
DTSTART;TZID=Europe/Amsterdam:20241117T133000
DTEND;TZID=Europe/Amsterdam:20241117T190000
DTSTAMP:20260421T213911
CREATED:20240909T135246Z
LAST-MODIFIED:20240909T135246Z
UID:57506-1731850200-1731870000@www.ronddelinge.nl
SUMMARY:Klaverjassen
DESCRIPTION:
URL:https://www.ronddelinge.nl/agenda/klaverjassen/2024-11-17/
LOCATION:Buurthuis de Aanlegsteiger\, Vissersdijk 30\, Gorinchem\, 4201 ZD\, Nederland
ATTACH;FMTTYPE=image/jpeg:https://www.ronddelinge.nl/wp-content/uploads/2024/09/klaverjassen.jpg
GEO:51.830544746667;4.9799722120975
X-APPLE-STRUCTURED-LOCATION;VALUE=URI;X-ADDRESS=Buurthuis de Aanlegsteiger Vissersdijk 30 Gorinchem 4201 ZD Nederland;X-APPLE-RADIUS=500;X-TITLE=Vissersdijk 30:geo:4.9799722120975,51.830544746667
END:VEVENT
BEGIN:VEVENT
DTSTART;TZID=Europe/Amsterdam:20240922T133000
DTEND;TZID=Europe/Amsterdam:20240922T190000
DTSTAMP:20260421T213911
CREATED:20240909T135246Z
LAST-MODIFIED:20240909T135246Z
UID:57504-1727011800-1727031600@www.ronddelinge.nl
SUMMARY:Klaverjassen
DESCRIPTION:
URL:https://www.ronddelinge.nl/agenda/klaverjassen/2024-09-22/
LOCATION:Buurthuis de Aanlegsteiger\, Vissersdijk 30\, Gorinchem\, 4201 ZD\, Nederland
ATTACH;FMTTYPE=image/jpeg:https://www.ronddelinge.nl/wp-content/uploads/2024/09/klaverjassen.jpg
GEO:51.830544746667;4.9799722120975
X-APPLE-STRUCTURED-LOCATION;VALUE=URI;X-ADDRESS=Buurthuis de Aanlegsteiger Vissersdijk 30 Gorinchem 4201 ZD Nederland;X-APPLE-RADIUS=500;X-TITLE=Vissersdijk 30:geo:4.9799722120975,51.830544746667
END:VEVENT
END:VCALENDAR