BEGIN:VCALENDAR
VERSION:2.0
PRODID:-// - ECPv6.10.3//NONSGML v1.0//EN
CALSCALE:GREGORIAN
METHOD:PUBLISH
X-ORIGINAL-URL:https://www.ronddelinge.nl
X-WR-CALDESC:Evenementen voor 
REFRESH-INTERVAL;VALUE=DURATION:PT1H
X-Robots-Tag:noindex
X-PUBLISHED-TTL:PT1H
BEGIN:VTIMEZONE
TZID:Europe/Amsterdam
BEGIN:DAYLIGHT
TZOFFSETFROM:+0100
TZOFFSETTO:+0200
TZNAME:CEST
DTSTART:20240331T010000
END:DAYLIGHT
BEGIN:STANDARD
TZOFFSETFROM:+0200
TZOFFSETTO:+0100
TZNAME:CET
DTSTART:20241027T010000
END:STANDARD
END:VTIMEZONE
BEGIN:VEVENT
DTSTART;TZID=Europe/Amsterdam:20240711T214500
DTEND;TZID=Europe/Amsterdam:20240711T233000
DTSTAMP:20260422T101419
CREATED:20240630T104727Z
LAST-MODIFIED:20241105T132702Z
UID:56735-1720734300-1720740600@www.ronddelinge.nl
SUMMARY:film 'Bank of Dave'
DESCRIPTION:Op donderdagavond 11 juli wordt het scherm opgezet op het grasveld achter de JP Waale School.\n\nBreng je eigen kleedje\, stoel of (zit)kussen mee en neem plaats onder de sterrenhemel in de Lingewijk voor de fantastische film ‘Bank of Dave’.\nDeze charmante Britse feelgoodfilm vertelt het verhaal van een selfmade miljonair die een bank wil starten\, maar voor allerlei uitdagingen komt te staan.\n\nGa voor meer info naar www.IFFG.nl en bestel vandaag nog je tickets!
URL:https://www.ronddelinge.nl/agenda/56735/
LOCATION:JP Waale School\, Herman de Ruyterstraat 34\, Gorinchem\, 4206 ZM\, Nederland
CATEGORIES:Film
ATTACH;FMTTYPE=image/jpeg:https://www.ronddelinge.nl/wp-content/uploads/2024/06/IFFG.jpg
GEO:51.83993898213;4.9782741978015
X-APPLE-STRUCTURED-LOCATION;VALUE=URI;X-ADDRESS=JP Waale School Herman de Ruyterstraat 34 Gorinchem 4206 ZM Nederland;X-APPLE-RADIUS=500;X-TITLE=Herman de Ruyterstraat 34:geo:4.9782741978015,51.83993898213
END:VEVENT
END:VCALENDAR