BEGIN:VCALENDAR
VERSION:2.0
PRODID:-// - ECPv6.10.3//NONSGML v1.0//EN
CALSCALE:GREGORIAN
METHOD:PUBLISH
X-ORIGINAL-URL:https://www.ronddelinge.nl
X-WR-CALDESC:Evenementen voor 
REFRESH-INTERVAL;VALUE=DURATION:PT1H
X-Robots-Tag:noindex
X-PUBLISHED-TTL:PT1H
BEGIN:VTIMEZONE
TZID:Europe/Amsterdam
BEGIN:DAYLIGHT
TZOFFSETFROM:+0100
TZOFFSETTO:+0200
TZNAME:CEST
DTSTART:20240331T010000
END:DAYLIGHT
BEGIN:STANDARD
TZOFFSETFROM:+0200
TZOFFSETTO:+0100
TZNAME:CET
DTSTART:20241027T010000
END:STANDARD
END:VTIMEZONE
BEGIN:VEVENT
DTSTART;TZID=Europe/Amsterdam:20241124T100000
DTEND;TZID=Europe/Amsterdam:20241124T113000
DTSTAMP:20260422T033321
CREATED:20241111T161649Z
LAST-MODIFIED:20241111T161649Z
UID:58150-1732442400-1732447800@www.ronddelinge.nl
SUMMARY:Loop je fit Rondom Gorinchem!
DESCRIPTION:Doe mee met de Vesting Run van 5 km onder begeleiding van gids Wim! \nBen je een geoefende hardloper én geïnteresseerd in de rijke historie van Gorinchem?\nDan is dit de perfecte activiteit voor jou! Gids Wim neemt je mee op een unieke rondje vesting run waarbij je niet alleen lekker sportief bezig bent\, maar ook interessante weetjes hoort over de wallen en de omgeving. \nWat kun je verwachten?\nOp zondagochtend om 10.00 uur starten we voor ’t Oude Stadhuys voor een sportieve en informatieve hardloopsessie.\nOnderweg maken we diverse stops op de wallen\, waar Wim je alles vertelt over de bezienswaardigheden en historie van dit bijzondere vestingstadje.\nWe eindigen bij ‘t oude Stadhuys\, waar je na afloop kunt genieten van een welverdiende koffie met gebak. \nPraktische informatie: \n\nDatum en tijd: Zondagochtend\, start om 10:00 uur\nStartpunt: Voor ’t Oude Stadhuys\nPrijs: € 12\,50 p.p.\nInclusief: Koffie en gebak na afloop\nVoorzieningen: Waterpunt voor je bidon en nabijgelegen toiletten voor vertrek en na afloop\nDeelnemers: Maximaal 10-12 personen
URL:https://www.ronddelinge.nl/agenda/loop-je-fit-rondom-gorinchem/
LOCATION:’t Oude Stadhuis\, Grote Markt 17\, Gorinchem\, Zuid-Holland\, 4201 EB\, Netherlands
CATEGORIES:Evenementen & Festivals
ATTACH;FMTTYPE=image/jpeg:https://www.ronddelinge.nl/wp-content/uploads/2024/11/Loop.jpg
END:VEVENT
BEGIN:VEVENT
DTSTART;TZID=Europe/Amsterdam:20240913T200000
DTEND;TZID=Europe/Amsterdam:20240913T200000
DTSTAMP:20260422T033321
CREATED:20240623T213250Z
LAST-MODIFIED:20240623T214249Z
UID:56598-1726257600-1726257600@www.ronddelinge.nl
SUMMARY:Feestelijk jubileum concert
DESCRIPTION:Jubileumconcert met groot orkest van de Koninklijke Harmonie De Bazuin 135 jaar o.l.v. Jos Jansen! \nEen doorlopend concert\, zonder pauze met verrassende elementen en solisten. \nLocatie: Grote Kerk\, Gorinchem / Aanvang 20.00 uur / Kerk open 19.30 uur\nvrije zitplaatsen / tickets via www.debazuin-gorinchem.nl \nkaartverkoop: Primera Arkelstraat + Gorinchem Oost en Bruna in Piazza Center.\nEntree € 13\,50 per persoon. \nWe zien u graag op vrijdag 13 september in de Grote Kerk te Gorinchem! \nÇisem Özkurt – viool\nÇisem Özkurt is een van de meest veelzijdige violisten van Nederland\, het is bijna onmogelijk dat je haar niet bij een concert of online samenwerking hebt gezien. Of het nu het Concertgebouw\, de Ziggo Dome of een stadsplein in Europa is. Çisem laat je haar veelzijdige muzikale kwaliteiten\, prachtige klank en stralende glimlach zien. Een inspiratie voor ons hele ensemble. ” Mirabeau-snaren \nFloris Onstwedder – trompettist\n“Zonder twijfel een van de beste spelers van zijn generatie”- prof. Frits Damrow\, voormalig solo trompettist van het Koninklijk Concertgebouworkest. \nSabine Kirsten – sopraan\nSabine Kirsten studeerde solozang aan het Alkmaars Conservatorium en vervolgde haar studie bij Wout Oosterkamp en Charlotte Riedijk. Sabine’s repertoire is zeer veelzijdig. Met haar warme sopraanklank zong zij de sopraanpartij in talrijke geestelijke werken waar onder de Matthäus-Passion\, het Weinachtsoratorium\, vele cantates en het Magnificat van J.S. Bach. \nTommy Netten – zang/presentatie\nTommy Netten is op jonge leeftijd met zang begonnen. “Ik moet wat te doen hebben. Weet je\, als ik een show heb georganiseerd en het loopt lekker\, de mensen hebben het naar hun zin en alles valt op z’n plek\, dan sta ik daar soms met tranen in mijn ogen naar te kijken. Ja\, ik ben een emotioneel mannetje.”
URL:https://www.ronddelinge.nl/agenda/feestelijk-jubileum-concert/
LOCATION:Grote Kerk\, Groenmarkt 10\, Gorinchem\, 4201 EE\, Nederland
CATEGORIES:Evenementen & Festivals,Muziek
ATTACH;FMTTYPE=image/jpeg:https://www.ronddelinge.nl/wp-content/uploads/2024/06/poster-jubileumconcert.jpg
GEO:51.829584188144;4.9734967282882
X-APPLE-STRUCTURED-LOCATION;VALUE=URI;X-ADDRESS=Grote Kerk Groenmarkt 10 Gorinchem 4201 EE Nederland;X-APPLE-RADIUS=500;X-TITLE=Groenmarkt 10:geo:4.9734967282882,51.829584188144
END:VEVENT
BEGIN:VEVENT
DTSTART;TZID=Europe/Amsterdam:20240822T180000
DTEND;TZID=Europe/Amsterdam:20240822T210000
DTSTAMP:20260422T033321
CREATED:20240630T103646Z
LAST-MODIFIED:20240630T103905Z
UID:56713-1724349600-1724360400@www.ronddelinge.nl
SUMMARY:Zomertafel 2024
DESCRIPTION:In de maanden juli en augustus wordt er 6 weken lang iedere donderdagavond bij Metropole een lange tafel gedekt met plaats voor 28 gasten.Op deze speciale avond gaat onze keuken terug naar de basis. Zij kiezen iedere week een ander ingrediënt en creëren daarmee een overheerlijk en verrassend 3-gangen menu voor € 25\,–\n18 juli > Aardappel25 juli > Noten1 augustus > Brood8 augustus > Pasta15 augustus > Peulvruchten22 augustus > Rijst\nReserveer vandaag nog telefonisch 0183 699 736 of per mail info@metropole-gorinchem.nl\, zodat u straks kunt genieten aan de Metropole ‘Zomer Tafel’. Vol=Vol!
URL:https://www.ronddelinge.nl/agenda/zomertafel-2024-aardappel/2024-08-22/
LOCATION:Zuid-Holland
CATEGORIES:Evenementen & Festivals,Sociaal
ATTACH;FMTTYPE=image/jpeg:https://www.ronddelinge.nl/wp-content/uploads/2024/06/Zomer-tafel.jpg
END:VEVENT
BEGIN:VEVENT
DTSTART;TZID=Europe/Amsterdam:20240719T203000
DTEND;TZID=Europe/Amsterdam:20240719T203000
DTSTAMP:20260422T033321
CREATED:20240630T155941Z
LAST-MODIFIED:20240630T155941Z
UID:56758-1721421000-1721421000@www.ronddelinge.nl
SUMMARY:Zomerse luisterliedjes
DESCRIPTION:Voor de vijfde keer mogen wij een zomerse muzikale avond verzorgen bij Schenkerij De Beurs in Geldermalsen.\nWe zien jullie daar graag!
URL:https://www.ronddelinge.nl/agenda/zomerse-luisterliedjes/
LOCATION:Schenkerij de Beurs\, Marktplein 14\, Geldermalsen\, 4191 AC\, Nederland
CATEGORIES:Evenementen & Festivals
ATTACH;FMTTYPE=image/jpeg:https://www.ronddelinge.nl/wp-content/uploads/2024/06/Zomerse-luisterliedjes.jpg
GEO:51.883714011614;5.288822655476
X-APPLE-STRUCTURED-LOCATION;VALUE=URI;X-ADDRESS=Schenkerij de Beurs Marktplein 14 Geldermalsen 4191 AC Nederland;X-APPLE-RADIUS=500;X-TITLE=Marktplein 14:geo:5.288822655476,51.883714011614
END:VEVENT
BEGIN:VEVENT
DTSTART;TZID=Europe/Amsterdam:20240713T000000
DTEND;TZID=Europe/Amsterdam:20240714T235959
DTSTAMP:20260422T033321
CREATED:20240630T153309Z
LAST-MODIFIED:20240630T153309Z
UID:56742-1720828800-1721001599@www.ronddelinge.nl
SUMMARY:De Toffeldagen 13 & 14 juli Culemborg
DESCRIPTION:Welkom bij de Toffeldagen!\nSchuif jij ook aan?\nOntdek een bruisend stadsfestival boordevol verrassingen en verbindingen in het hart van Culemborg! \nProef\, klets en dans!\nLaat je betoveren door culinaire en culturele hoogstandjes.\nOntmoet zaterdag 13 juli jouw favoriete Culemborgers bij de diverse podia en geniet op zondag 14 juli van al het moois en lekkers op de Braderie! \nDe Toffeldagen zijn een initiatief van Vrijstad Cultuur Festival en Jesek van Sante.\nHet thema verbinding staat centraal.\nDaarom wordt er tijdens de Toffeldagen samen gegeten\, gedanst en gespeeld.\nAan verschillende toffels (kraampjes\, foodtrucks en tafeltjes bij diverse horeca) kun je als bezoeker aan tafel gaan met andere Culemborgers.\nDiverse organisaties en ondernemers werken mee aan het ontstaan van twee dagen.\nSamen maken we er heerlijke dagen van!
URL:https://www.ronddelinge.nl/agenda/de-toffeldagen-13-14-juli-culemborg/
LOCATION:Centrum Culemborg\, Stadscentrum\, Culemborg\, 4101 CD
CATEGORIES:Evenementen & Festivals
ATTACH;FMTTYPE=image/jpeg:https://www.ronddelinge.nl/wp-content/uploads/2024/06/toffeldagen.jpg
END:VEVENT
END:VCALENDAR